BEGIN:VCALENDAR
VERSION:2.0
PRODID:-//wp-events-plugin.com//7.2.3.1//EN
BEGIN:VEVENT
UID:94@2021.ycsi.de
DTSTART;TZID=Europe/Berlin:20250322T100000
DTEND;TZID=Europe/Berlin:20250322T150000
DTSTAMP:20241110T184822Z
URL:https://2021.ycsi.de/events/seeputzete-2025-03-22
SUMMARY:Seeputzete   22. März 2025
DESCRIPTION:Geplante Seeputzete 2025 gemeinsam mit dem DLRG
END:VEVENT
BEGIN:VTIMEZONE
TZID:Europe/Berlin
X-LIC-LOCATION:Europe/Berlin
BEGIN:STANDARD
DTSTART:20241027T020000
TZOFFSETFROM:+0200
TZOFFSETTO:+0100
TZNAME:CET
END:STANDARD
END:VTIMEZONE
END:VCALENDAR