BEGIN:VCALENDAR
VERSION:2.0
PRODID:-//wp-events-plugin.com//7.2.3.1//EN
BEGIN:VEVENT
UID:96@2021.ycsi.de
DTSTART;TZID=Europe/Berlin:20250514T170000
DTEND;TZID=Europe/Berlin:20250514T235500
DTSTAMP:20250205T151356Z
URL:https://2021.ycsi.de/events/mittwochsregatta-ycsi-14-05-2025
SUMMARY:Mittwochsregatta YCSI 14. Mai 2025
DESCRIPTION:Mitwochsregatta beim YCSI  Start YST 100 18:30 h
END:VEVENT
BEGIN:VTIMEZONE
TZID:Europe/Berlin
X-LIC-LOCATION:Europe/Berlin
BEGIN:DAYLIGHT
DTSTART:20250330T030000
TZOFFSETFROM:+0100
TZOFFSETTO:+0200
TZNAME:CEST
END:DAYLIGHT
END:VTIMEZONE
END:VCALENDAR