BEGIN:VCALENDAR
VERSION:2.0
PRODID:-//wp-events-plugin.com//7.2.3.1//EN
BEGIN:VEVENT
UID:98@2021.ycsi.de
DTSTART;TZID=Europe/Berlin;VALUE=DATE:20250629
DTEND;TZID=Europe/Berlin;VALUE=DATE:20250630
DTSTAMP:20241110T185433Z
URL:https://2021.ycsi.de/events/29-juni-2025-sie-und-er-regatta-wallhausen
SUMMARY:29. Juni 2025  Sie und Er Regatta Wallhausen
DESCRIPTION:
END:VEVENT
BEGIN:VTIMEZONE
TZID:Europe/Berlin
X-LIC-LOCATION:Europe/Berlin
BEGIN:DAYLIGHT
DTSTART:20250330T030000
TZOFFSETFROM:+0100
TZOFFSETTO:+0200
TZNAME:CEST
END:DAYLIGHT
END:VTIMEZONE
END:VCALENDAR